BEGIN:VCALENDAR
VERSION:2.0
PRODID:-//All That &amp; More boutique - ECPv6.15.20//NONSGML v1.0//EN
CALSCALE:GREGORIAN
METHOD:PUBLISH
X-WR-CALNAME:All That &amp; More boutique
X-ORIGINAL-URL:https://allthatnmoreboutique.com
X-WR-CALDESC:Events for All That &amp; More boutique
REFRESH-INTERVAL;VALUE=DURATION:PT1H
X-Robots-Tag:noindex
X-PUBLISHED-TTL:PT1H
BEGIN:VTIMEZONE
TZID:America/Los_Angeles
BEGIN:DAYLIGHT
TZOFFSETFROM:-0800
TZOFFSETTO:-0700
TZNAME:PDT
DTSTART:20130310T100000
END:DAYLIGHT
BEGIN:STANDARD
TZOFFSETFROM:-0700
TZOFFSETTO:-0800
TZNAME:PST
DTSTART:20131103T090000
END:STANDARD
BEGIN:DAYLIGHT
TZOFFSETFROM:-0800
TZOFFSETTO:-0700
TZNAME:PDT
DTSTART:20140309T100000
END:DAYLIGHT
BEGIN:STANDARD
TZOFFSETFROM:-0700
TZOFFSETTO:-0800
TZNAME:PST
DTSTART:20141102T090000
END:STANDARD
BEGIN:DAYLIGHT
TZOFFSETFROM:-0800
TZOFFSETTO:-0700
TZNAME:PDT
DTSTART:20150308T100000
END:DAYLIGHT
BEGIN:STANDARD
TZOFFSETFROM:-0700
TZOFFSETTO:-0800
TZNAME:PST
DTSTART:20151101T090000
END:STANDARD
BEGIN:DAYLIGHT
TZOFFSETFROM:-0800
TZOFFSETTO:-0700
TZNAME:PDT
DTSTART:20160313T100000
END:DAYLIGHT
BEGIN:STANDARD
TZOFFSETFROM:-0700
TZOFFSETTO:-0800
TZNAME:PST
DTSTART:20161106T090000
END:STANDARD
END:VTIMEZONE
BEGIN:VEVENT
DTSTART;TZID=America/Los_Angeles:20150605T180000
DTEND;TZID=America/Los_Angeles:20150605T230000
DTSTAMP:20260422T055303
CREATED:20150601T021605Z
LAST-MODIFIED:20150601T021605Z
UID:1059-1433527200-1433545200@allthatnmoreboutique.com
SUMMARY:Flip Flop & Lemon Drops - Summer Love Experience
DESCRIPTION:Come out and celebrate Shawn of Manly Handz birthday\, get pampered and styled at All That & MORE boutique! \nHave you been styled by a personal stylist or experience All That & MORE boutique? \nHave you had the Manly Handz Experience or brought a Friend to Flip Flops and Lemon?\nAll That & MORE boutique & Manly Handz invites you out to our Flip Flops & Lemon Drops. We invite you to come out in your flip flops and sip “The Lemon Experience” while you shop the sales and preview new summer fashion. \nWhile you check out the fashions\, Manly Handz will be on hand providing Handz\, Feet\, & Temples/Neck services with Candles\, Rose Petals\, and Soft Music. Treat yourself and friends to a great pampering Experience. The complete experience is $40. {Includes: Handz\,Feet and Temple/Neck} Al La Carte: Handz- $12 Feet – $15 Temple/Neck – $25 \nThe first 10 shoppers will receive a free personal styling profile. Lets us enhance your personal style. \nAll That & MORE boutique\n10754 Jefferson Blvd\, Culver City\, California 90230\n310-559-7332 \nPlease! RSVP to secure your treatments and No Waiting
URL:https://allthatnmoreboutique.com/event/flip-flop-lemon-drops-summer-love-experience/
LOCATION:All That & MORE boutique\, 10754 Jefferson Blvd\, Culver City\, CA\, 90230\, United States
CATEGORIES:Flip Flops & Lemon Drops
ATTACH;FMTTYPE=image/jpeg:https://allthatnmoreboutique.com/wp-content/uploads/2015/05/2015manly.jpg
ORGANIZER;CN="Candance Simmons":MAILTO:candanceallthat@att.net
END:VEVENT
BEGIN:VEVENT
DTSTART;TZID=America/Los_Angeles:20150501T180000
DTEND;TZID=America/Los_Angeles:20150501T230000
DTSTAMP:20260422T055303
CREATED:20150430T053054Z
LAST-MODIFIED:20150430T053054Z
UID:943-1430503200-1430521200@allthatnmoreboutique.com
SUMMARY:Flip Flops & Lemon Drops - Mother's Day Edition
DESCRIPTION:We Are Honoring Mothers & Daughters \nCome out and celebrate your Mom with great fashion\, pampering and join our raffles to receive amazing giveaways! \nAll That & MORE boutique invites you out to our Flip Flops & Lemon Drops {Mother & Daugther Experience} We invite you to come out in your flip flops and sip lemon drops while you shop the fall sales and preview new summer and spring fashion. \nWhile you check out the fashions\, Manly Handz will be on hand providing Handz\, Feet\, & Temples/Neck services with Candles\, Chocolates\, Rose Petals\, and Soft Music. Treat yourself and friends to a great pampering Experience. The complete experience is $40.\nThanks for sharing All That & MORE boutique & Manly Handz with your Friends and Family! \nBring your Mom or a friend and you both will receive $5 off your purchases of $25 or more and $10 off your purchase of $100 or more. Come out and let us enhance your personal style. \nRSVP NOW FOR….. Friday May 1st From: 6pm -11pm \n$40 {Includes Handz\,Feet and Temple/Neck}\nAl La Carte: Handz- $12 Feet – $15 Temple/Neck – $20 \nThe first 10 clients will receive a free personal styling session and will be entered into a drawing for a gift certificate to All That & MORE boutique! \nRSVP 310-559-7332
URL:https://allthatnmoreboutique.com/event/flip-flops-lemon-drops-mothers-day-edition/
LOCATION:All That & MORE boutique\, 10754 Jefferson Blvd\, Culver City\, CA\, 90230\, United States
CATEGORIES:Flip Flops & Lemon Drops,In-Store Events,MORE Events
ATTACH;FMTTYPE=image/jpeg:https://allthatnmoreboutique.com/wp-content/uploads/2015/04/image1.jpg
ORGANIZER;CN="Candance Simmons":MAILTO:candanceallthat@att.net
END:VEVENT
BEGIN:VEVENT
DTSTART;TZID=America/Los_Angeles:20150102T190000
DTEND;TZID=America/Los_Angeles:20150102T230000
DTSTAMP:20260422T055303
CREATED:20141229T102616Z
LAST-MODIFIED:20141229T102616Z
UID:748-1420225200-1420239600@allthatnmoreboutique.com
SUMMARY:1st 2015 Flip Flops & Lemon Drops
DESCRIPTION:We invite you to our 2015 New Year Edition of Flip Flops &’Lemon Drops! Come out and experience great fashion\, pampering and kick off 2015 with All That & MORE boutique and Manly Handz. \nAll That & MORE boutique & Manly Handz Experience invites you to Sip the Lemon Experience\, while you shop the boutique sales! We will offer free personal styling for the first 10 ten shoppers! Be the first to experience of $20.15 special purchases. Let us enhance your personal style. \nWhile you check out the fashions\, Manly Handz will be on hand providing Handz\, Feet\, & Temples/Neck services with Candles\, Chocolates\, Rose Petals\, and Soft Music. \nTreat yourself and friends to a great pampering Experience. The complete experience is $40.\n$40 {Includes Handz\,Feet and Temple/Neck}\nAl La Carte: Handz- $12 Feet – $15 Temple/Neck – $20 \nRSVP NOW For the Manly Handz Experience\n310-559-7332
URL:https://allthatnmoreboutique.com/event/1st-2015-flip-flops-lemon-drops/
LOCATION:All That & MORE boutique\, 10754 Jefferson Blvd\, Culver City\, CA\, 90230\, United States
CATEGORIES:Flip Flops & Lemon Drops
ATTACH;FMTTYPE=image/jpeg:https://allthatnmoreboutique.com/wp-content/uploads/2014/12/image9.jpg
ORGANIZER;CN="Candance Simmons":MAILTO:candanceallthat@att.net
END:VEVENT
BEGIN:VEVENT
DTSTART;TZID=America/Los_Angeles:20141205T190000
DTEND;TZID=America/Los_Angeles:20141205T230000
DTSTAMP:20260422T055303
CREATED:20141203T022323Z
LAST-MODIFIED:20141203T023739Z
UID:714-1417806000-1417820400@allthatnmoreboutique.com
SUMMARY:Flip Flops & Lemon Drops - The Client Appreciation & Holiday Edition
DESCRIPTION:We invite you to our for our Holiday Client Appreciation Experience! Come out and experience great fashion\, pampering and raffles\, and kick off your Holiday Parties with All That & MORE boutique and Manly Handz ! He will recognize our clients with Special Holiday Gift Raffles & MORE! \nAll That & MORE boutique & Manly Handz Experience invites you to Sip the Holiday Experience\, a special chocolate treat while you shop the sales and preview new holiday fashion. We will offer a personal holiday styling for the 10 ten shoppers!  Bring your a friend and you both will receive $5 off your purchases of $25 or more and $10 off your purchase of $100 or more. Let us enhance your personal style. \nWhile you check out the fashions\, Manly Handz will be on hand providing Handz\, Feet\, & Temples/Neck services with Candles\, Chocolates\, Rose Petals\, and Soft Music. \nTreat yourself and friends to a great pampering Experience. The complete experience is $40.\n$40 {Includes Handz\,Feet and Temple/Neck}\nAl La Carte: Handz- $12 Feet – $15 Temple/Neck – $20 \nRSVP NOW For the Manly Handz Experience\n310-559-7332
URL:https://allthatnmoreboutique.com/event/flip-flops-lemon-drops-the-client-appreciation-holiday-edition/
LOCATION:All That & MORE boutique\, 10754 Jefferson Blvd\, Culver City\, CA\, 90230\, United States
CATEGORIES:Flip Flops & Lemon Drops
ORGANIZER;CN="Candance Simmons":MAILTO:candanceallthat@att.net
END:VEVENT
BEGIN:VEVENT
DTSTART;TZID=America/Los_Angeles:20141114T190000
DTEND;TZID=America/Los_Angeles:20141114T230000
DTSTAMP:20260422T055303
CREATED:20141114T022439Z
LAST-MODIFIED:20141114T033706Z
UID:497-1415991600-1416006000@allthatnmoreboutique.com
SUMMARY:Flip Flops & Lemon Drops
DESCRIPTION:All That & MORE boutique & Manly Handz invites you out to our Flip Flops & Lemon Drops. We invite you to come out in your flip flops and sip lemon drops while you shop.\n  \nWe are offering free personal styling sessions to the 1st 10 guests.  Let us enhance your personal style.Manly Handz will be on hand providing Handz\, Feet\, & Temples/Neck services with Candles\, Chocolates\, Rose Petals\, and Soft Music. Treat yourself and friends to a great pampering experience. The complete experience  is $40.  {Includes Hands\, Feet and Temple/Neck} Al La Carte: Handz- $12 Feet – $15 Temple/Neck – $20 \n\n\nRSVP now for your styling and pampering experience at 310-559-7332.
URL:https://allthatnmoreboutique.com/event/flip-flops-lemon-drops/
LOCATION:All That & MORE boutique\, 10754 Jefferson Blvd\, Culver City\, CA\, 90230\, United States
CATEGORIES:Flip Flops & Lemon Drops
ATTACH;FMTTYPE=image/jpeg:https://allthatnmoreboutique.com/wp-content/uploads/2014/11/fflemondrops.jpg
ORGANIZER;CN="Candance Simmons":MAILTO:candanceallthat@att.net
END:VEVENT
END:VCALENDAR