BEGIN:VCALENDAR
VERSION:2.0
PRODID:-//All That &amp; More boutique - ECPv6.15.20//NONSGML v1.0//EN
CALSCALE:GREGORIAN
METHOD:PUBLISH
X-ORIGINAL-URL:https://allthatnmoreboutique.com
X-WR-CALDESC:Events for All That &amp; More boutique
REFRESH-INTERVAL;VALUE=DURATION:PT1H
X-Robots-Tag:noindex
X-PUBLISHED-TTL:PT1H
BEGIN:VTIMEZONE
TZID:America/Los_Angeles
BEGIN:DAYLIGHT
TZOFFSETFROM:-0800
TZOFFSETTO:-0700
TZNAME:PDT
DTSTART:20130310T100000
END:DAYLIGHT
BEGIN:STANDARD
TZOFFSETFROM:-0700
TZOFFSETTO:-0800
TZNAME:PST
DTSTART:20131103T090000
END:STANDARD
BEGIN:DAYLIGHT
TZOFFSETFROM:-0800
TZOFFSETTO:-0700
TZNAME:PDT
DTSTART:20140309T100000
END:DAYLIGHT
BEGIN:STANDARD
TZOFFSETFROM:-0700
TZOFFSETTO:-0800
TZNAME:PST
DTSTART:20141102T090000
END:STANDARD
BEGIN:DAYLIGHT
TZOFFSETFROM:-0800
TZOFFSETTO:-0700
TZNAME:PDT
DTSTART:20150308T100000
END:DAYLIGHT
BEGIN:STANDARD
TZOFFSETFROM:-0700
TZOFFSETTO:-0800
TZNAME:PST
DTSTART:20151101T090000
END:STANDARD
BEGIN:DAYLIGHT
TZOFFSETFROM:-0800
TZOFFSETTO:-0700
TZNAME:PDT
DTSTART:20160313T100000
END:DAYLIGHT
BEGIN:STANDARD
TZOFFSETFROM:-0700
TZOFFSETTO:-0800
TZNAME:PST
DTSTART:20161106T090000
END:STANDARD
BEGIN:DAYLIGHT
TZOFFSETFROM:-0800
TZOFFSETTO:-0700
TZNAME:PDT
DTSTART:20170312T100000
END:DAYLIGHT
BEGIN:STANDARD
TZOFFSETFROM:-0700
TZOFFSETTO:-0800
TZNAME:PST
DTSTART:20171105T090000
END:STANDARD
END:VTIMEZONE
BEGIN:VEVENT
DTSTART;TZID=America/Los_Angeles:20160324T060000
DTEND;TZID=America/Los_Angeles:20160324T200000
DTSTAMP:20260420T065032
CREATED:20160303T024836Z
LAST-MODIFIED:20160303T024836Z
UID:1597-1458799200-1458849600@allthatnmoreboutique.com
SUMMARY:MORE VIPs Private Events
DESCRIPTION:Join us for a Huge Launch!
URL:https://allthatnmoreboutique.com/event/more-vips-private-events/
LOCATION:All That & MORE boutique\, 10754 Jefferson Blvd\, Culver City\, CA\, 90230\, United States
CATEGORIES:MORE Events,VIP Private Event
ATTACH;FMTTYPE=image/jpeg:https://allthatnmoreboutique.com/wp-content/uploads/2016/03/image-2.jpg
ORGANIZER;CN="Candance Simmons":MAILTO:candanceallthat@att.net
END:VEVENT
BEGIN:VEVENT
DTSTART;TZID=America/Los_Angeles:20160319T130000
DTEND;TZID=America/Los_Angeles:20160319T160000
DTSTAMP:20260420T065032
CREATED:20160303T024137Z
LAST-MODIFIED:20160303T024137Z
UID:1596-1458392400-1458403200@allthatnmoreboutique.com
SUMMARY:MORE VIPs Private Event
DESCRIPTION:Join us for a Huge Launch!
URL:https://allthatnmoreboutique.com/event/more-vips-private-event-2/
LOCATION:All That & MORE boutique\, 10754 Jefferson Blvd\, Culver City\, CA\, 90230\, United States
CATEGORIES:In-Store Events,MORE Events,VIP Private Event
ATTACH;FMTTYPE=image/jpeg:https://allthatnmoreboutique.com/wp-content/uploads/2016/03/image-2.jpg
ORGANIZER;CN="Candance Simmons":MAILTO:candanceallthat@att.net
END:VEVENT
BEGIN:VEVENT
DTSTART;TZID=America/Los_Angeles:20160318T170000
DTEND;TZID=America/Los_Angeles:20160318T200000
DTSTAMP:20260420T065032
CREATED:20160303T023907Z
LAST-MODIFIED:20160303T023907Z
UID:1595-1458320400-1458331200@allthatnmoreboutique.com
SUMMARY:MORE VIPs Private Event
DESCRIPTION:Join us for a Huge Launch!
URL:https://allthatnmoreboutique.com/event/more-vips-private-event/
LOCATION:All That & MORE boutique\, 10754 Jefferson Blvd\, Culver City\, CA\, 90230\, United States
CATEGORIES:MORE Events,VIP Private Event
ATTACH;FMTTYPE=image/jpeg:https://allthatnmoreboutique.com/wp-content/uploads/2016/03/image-2.jpg
ORGANIZER;CN="Candance Simmons":MAILTO:candanceallthat@att.net
END:VEVENT
BEGIN:VEVENT
DTSTART;TZID=America/Los_Angeles:20160205T190000
DTEND;TZID=America/Los_Angeles:20160205T230000
DTSTAMP:20260420T065032
CREATED:20160128T013123Z
LAST-MODIFIED:20160128T013415Z
UID:1485-1454698800-1454713200@allthatnmoreboutique.com
SUMMARY:Flip Flops & Lemon Drops - Spread Love - Edition
DESCRIPTION:Come out and experience great fashion and pampering at All That & MORE boutique with Manly Handz as we Spread the Love.  \nAll That & MORE boutique & Manly Handz Experience invites you to Sip the Lemon Experience\, while you shop the boutique sales! We will offer free personal styling for the first 10 ten shoppers! Be the first to experience of $20.16 special purchases. Let us enhance your personal style. \n\nWhile you check out the fashions\, Manly Handz will be on hand providing Handz\, Feet\, & Temples/Neck services with Candles\, Chocolates\, Rose Petals\, and Soft Music. \n\nTreat yourself and friends to a great pampering Experience. The complete experience is $45. \n$45 {Includes Handz\,Feet and Temple/Neck} \nAl La Carte: Handz- $12 Feet – $15 Temple/Neck – $25 \n\n\nRSVP NOW For the Manly Handz Experience \n310-559-7332
URL:https://allthatnmoreboutique.com/event/flip-flops-lemon-drops-spread-love-edition/
LOCATION:All That & MORE boutique\, 10754 Jefferson Blvd\, Culver City\, CA\, 90230\, United States
CATEGORIES:Flip Flops & Lemon Drops,MORE Events
ATTACH;FMTTYPE=image/png:https://allthatnmoreboutique.com/wp-content/uploads/2016/01/manlyvalentine1.png
ORGANIZER;CN="Candance Simmons":MAILTO:candanceallthat@att.net
END:VEVENT
BEGIN:VEVENT
DTSTART;TZID=America/Los_Angeles:20160204T110000
DTEND;TZID=America/Los_Angeles:20160206T190000
DTSTAMP:20260420T065032
CREATED:20160204T205055Z
LAST-MODIFIED:20160204T210010Z
UID:1533-1454583600-1454785200@allthatnmoreboutique.com
SUMMARY:Super Bowl 50 Sale!
DESCRIPTION:We kicking off Super Bowl 50 with a Super Sale. Selected items are $50 or 50% off.  The sale price can reflect a 35% – 70% saving. This Sale starts today and ends Saturday February 6th! This sale will be shared with the public on Friday! Shop early for the best selections.\n  \n*Sale valid on new purchases only and can not be applied to an existing layaway
URL:https://allthatnmoreboutique.com/event/super-bowl-50-sale/
LOCATION:All That & MORE boutique\, 10754 Jefferson Blvd\, Culver City\, CA\, 90230\, United States
CATEGORIES:MORE Events
ATTACH;FMTTYPE=image/jpeg:https://allthatnmoreboutique.com/wp-content/uploads/2016/02/image-2.jpg
ORGANIZER;CN="Candance Simmons":MAILTO:candanceallthat@att.net
END:VEVENT
BEGIN:VEVENT
DTSTART;TZID=America/Los_Angeles:20151002T190000
DTEND;TZID=America/Los_Angeles:20151002T230000
DTSTAMP:20260420T065032
CREATED:20150930T023645Z
LAST-MODIFIED:20150930T023645Z
UID:1334-1443812400-1443826800@allthatnmoreboutique.com
SUMMARY:Flip Flops & Lemon Drops - Style & Pamper Me Experience
DESCRIPTION:Come out and on Friday\, October 2nd. We want you to get styled by the All That & MORE boutique stylists and pampered with Manly Handz ! \n\nHave you been styled by a personal stylist or experience All That & MORE boutique? \n\n\nAll That & MORE boutique & Manly Handz invites you out to our Flip Flops & Lemon Drops. We invite you to come out in your flip flops and sip “The Lemon Experience” while you shop the sales and preview new summer fashion.\n\n\nWhile you check out the fashions\, Manly Handz will be on hand providing Handz\, Feet\, & Temples/Neck services with Candles\, Rose Petals\, and Soft Music. Treat yourself and friends to a great pampering Experience. The complete experience is $45. {Includes: Handz\,Feet and Temple/Neck} Al La Carte: Handz- $12 Feet – $15 Temple/Neck – $25 \nPlease! RSVP to secure your treatments and No Waiting
URL:https://allthatnmoreboutique.com/event/flip-flops-lemon-drops-style-pamper-me-experience/
LOCATION:All That & MORE boutique\, 10754 Jefferson Blvd\, Culver City\, CA\, 90230\, United States
CATEGORIES:Flip Flops & Lemon Drops,MORE Events
ATTACH;FMTTYPE=image/jpeg:https://allthatnmoreboutique.com/wp-content/uploads/2015/09/image10.jpg
ORGANIZER;CN="Candance Simmons":MAILTO:candanceallthat@att.net
END:VEVENT
BEGIN:VEVENT
DTSTART;TZID=America/Los_Angeles:20150613T010000
DTEND;TZID=America/Los_Angeles:20150613T150000
DTSTAMP:20260420T065032
CREATED:20150610T074425Z
LAST-MODIFIED:20150610T074425Z
UID:1087-1434157200-1434207600@allthatnmoreboutique.com
SUMMARY:Soothing Saturday's - Shai's World Launch
DESCRIPTION:Join Us for a very special Soothing Saturday! We are so excited to welcome our 1st Kidpreneur to All That & MORE boutique! Shaiann owner of Shai’s World at 10 years old will be showcasing her 5 Free Nail Polish this weekend. Come out and meet this amazing young entrepreneur\, learn about 5 Free polish\, and experience the MORE of All That & MORE boutique! \nThe 1st 10 purchases will recive a complimentary polish change from the owner of the Mobil Nail Spa Yolanda Adams! \nToushonta Hogan the Owner of Scentsational Soaps will demonstrate products from their new summer line\, answer questions\, and MORE. \nJust in time for summer\, Candance Simmons and the All That & MORE boutique styling team will be on hand styling you and your guests helping to enhance your personal style! \nJoin us for a fun and soothing good time! Call now to RSVP 310-559-7332.
URL:https://allthatnmoreboutique.com/event/soothing-saturdays-shais-world-launch/
LOCATION:All That & MORE boutique\, 10754 Jefferson Blvd\, Culver City\, CA\, 90230\, United States
CATEGORIES:MORE Events,Soothing Saturdays
ATTACH;FMTTYPE=image/jpeg:https://allthatnmoreboutique.com/wp-content/uploads/2015/06/image15.jpg
ORGANIZER;CN="Candance Simmons":MAILTO:candanceallthat@att.net
END:VEVENT
BEGIN:VEVENT
DTSTART;TZID=America/Los_Angeles:20150516T010000
DTEND;TZID=America/Los_Angeles:20150516T210000
DTSTAMP:20260420T065032
CREATED:20150503T222316Z
LAST-MODIFIED:20150503T222316Z
UID:949-1431738000-1431810000@allthatnmoreboutique.com
SUMMARY:5th Year Anniversary Celebration
DESCRIPTION:It’s time to celebrate all We have accomplished with All That & MORE boutique. Thank you for your love and support. We could not have made it this far without you. \nAs we approach our 5th Year Anniversary\, we have All That & MORE planned for you.  Come join the fun\, experience the fashion\, walk the red carpet\, enjoy the great food\, make a purchase and get entered into our fashion item raffles\, receive a swag bag and MORE! \nThank you for your ongoing support and taking this amazing journey with All That & MORE boutique! Call now to RSVP 310-559-7332!
URL:https://allthatnmoreboutique.com/event/5th-year-anniversary-celebration/
LOCATION:All That & MORE boutique\, 10754 Jefferson Blvd\, Culver City\, CA\, 90230\, United States
CATEGORIES:MORE Events
ATTACH;FMTTYPE=image/png:https://allthatnmoreboutique.com/wp-content/uploads/2015/05/anniversaryflyer.png
ORGANIZER;CN="Candance Simmons":MAILTO:candanceallthat@att.net
END:VEVENT
BEGIN:VEVENT
DTSTART;TZID=America/Los_Angeles:20150501T180000
DTEND;TZID=America/Los_Angeles:20150501T230000
DTSTAMP:20260420T065032
CREATED:20150430T053054Z
LAST-MODIFIED:20150430T053054Z
UID:943-1430503200-1430521200@allthatnmoreboutique.com
SUMMARY:Flip Flops & Lemon Drops - Mother's Day Edition
DESCRIPTION:We Are Honoring Mothers & Daughters \nCome out and celebrate your Mom with great fashion\, pampering and join our raffles to receive amazing giveaways! \nAll That & MORE boutique invites you out to our Flip Flops & Lemon Drops {Mother & Daugther Experience} We invite you to come out in your flip flops and sip lemon drops while you shop the fall sales and preview new summer and spring fashion. \nWhile you check out the fashions\, Manly Handz will be on hand providing Handz\, Feet\, & Temples/Neck services with Candles\, Chocolates\, Rose Petals\, and Soft Music. Treat yourself and friends to a great pampering Experience. The complete experience is $40.\nThanks for sharing All That & MORE boutique & Manly Handz with your Friends and Family! \nBring your Mom or a friend and you both will receive $5 off your purchases of $25 or more and $10 off your purchase of $100 or more. Come out and let us enhance your personal style. \nRSVP NOW FOR….. Friday May 1st From: 6pm -11pm \n$40 {Includes Handz\,Feet and Temple/Neck}\nAl La Carte: Handz- $12 Feet – $15 Temple/Neck – $20 \nThe first 10 clients will receive a free personal styling session and will be entered into a drawing for a gift certificate to All That & MORE boutique! \nRSVP 310-559-7332
URL:https://allthatnmoreboutique.com/event/flip-flops-lemon-drops-mothers-day-edition/
LOCATION:All That & MORE boutique\, 10754 Jefferson Blvd\, Culver City\, CA\, 90230\, United States
CATEGORIES:Flip Flops & Lemon Drops,In-Store Events,MORE Events
ATTACH;FMTTYPE=image/jpeg:https://allthatnmoreboutique.com/wp-content/uploads/2015/04/image1.jpg
ORGANIZER;CN="Candance Simmons":MAILTO:candanceallthat@att.net
END:VEVENT
BEGIN:VEVENT
DTSTART;TZID=America/Los_Angeles:20150314T020000
DTEND;TZID=America/Los_Angeles:20150314T160000
DTSTAMP:20260420T065032
CREATED:20150304T093441Z
LAST-MODIFIED:20150313T035351Z
UID:872-1426298400-1426348800@allthatnmoreboutique.com
SUMMARY:Soothing Saturday - Sneak Peek Editions
DESCRIPTION:Join Us for a very special Soothing Saturday! We are giving you a Sneak Peek at New & Exclusive Products created by Scentsational Soaps for All That & MORE boutique. That’s right you will be one of the 1st to sample and buy an All That & MORE boutique  pre-anniversary product. We are getting ready to celebrate 5 years in business with several special and limited edition products. Scentsational Soaps has created something amazing to help us mark this milestone. If you miss it you will have to wait until May 16th to experience it again.\n\nToushonta Hogan the Owner of Scentsational Soaps will demonstrate products from their new summer line\, answer questions\, and MORE.\nJust in time for spring\, Candance Simmons and the All That & MORE boutique styling team will be on hand styling you and your guests helping to  enhance your personal style!\nJoin us for a fun and soothing good time! Call now to RSVP 310-559-7332.
URL:https://allthatnmoreboutique.com/event/soothing-saturday-sneak-peek-editions/
LOCATION:All That & MORE boutique\, 10754 Jefferson Blvd\, Culver City\, CA\, 90230\, United States
CATEGORIES:MORE Events,Soothing Saturdays
ATTACH;FMTTYPE=image/jpeg:https://allthatnmoreboutique.com/wp-content/uploads/2015/03/soothingsaturday31415.jpg
ORGANIZER;CN="Candance Simmons":MAILTO:candanceallthat@att.net
END:VEVENT
BEGIN:VEVENT
DTSTART;TZID=America/Los_Angeles:20150131T060000
DTEND;TZID=America/Los_Angeles:20150131T200000
DTSTAMP:20260420T065032
CREATED:20150122T092541Z
LAST-MODIFIED:20150122T092541Z
UID:805-1422684000-1422734400@allthatnmoreboutique.com
SUMMARY:Red Carpet Living & MORE
DESCRIPTION:Did you make an agreement to be healthy in 2015? Do you want to create a new image? Do you want unmistakable health and style? Join Us at Red Carpet living at All That & MORE boutique.
URL:https://allthatnmoreboutique.com/event/red-carpet-living-more/
LOCATION:All That & MORE boutique\, 10754 Jefferson Blvd\, Culver City\, CA\, 90230\, United States
CATEGORIES:MORE Events
ATTACH;FMTTYPE=image/jpeg:https://allthatnmoreboutique.com/wp-content/uploads/2015/01/RCL-_-FLYER3.jpg
ORGANIZER;CN="Candance Simmons":MAILTO:candanceallthat@att.net
END:VEVENT
BEGIN:VEVENT
DTSTART;TZID=America/Los_Angeles:20150109T060000
DTEND;TZID=America/Los_Angeles:20150109T200000
DTSTAMP:20260420T065032
CREATED:20150106T020441Z
LAST-MODIFIED:20150106T021441Z
UID:783-1420783200-1420833600@allthatnmoreboutique.com
SUMMARY:Are You Experience Scandalous Menopausal or Hormone Behavior?
DESCRIPTION:Jade Singer is a Physician Assistant who has been practicing gynecology for over 25 years. She received her medical training at Harbor-UCLA as a women’s health specialist and then went on to get her master’s in public health with a specialty in health education. Pursuing her long-held interest in human sexuality\, Jade obtained a certification from ASSECT as a sex counselor. \nDedicated to the belief that she can be a part of each woman’s quest for optimal health\, she offers accurate information and encourages women to be active participants in decisions that are vital to their well-being. In addition\, Jade is fully committed to the concept of prevention\, encouraging her patients to make healthy choices in their daily lives. \nJade has a unique ability to connect to her patients\, from adolescence through menopause\, providing them high-quality\, state-of-the-art medical services in a caring and comfortable environment. She will be hosting a Hot Topic discussion at All That & MORE boutique\, Friday January 9\, 2014. We will mix and mingle from 6:00pm – 6:30pm and start the discussion at 6:30pm.
URL:https://allthatnmoreboutique.com/event/are-you-experience-scandalous-menopausal-or-hormone-behavior/
LOCATION:All That & MORE boutique\, 10754 Jefferson Blvd\, Culver City\, CA\, 90230\, United States
CATEGORIES:In-Store Events,MORE Events
ORGANIZER;CN="Candance Simmons":MAILTO:candanceallthat@att.net
END:VEVENT
BEGIN:VEVENT
DTSTART;TZID=America/Los_Angeles:20141120T170000
DTEND;TZID=America/Los_Angeles:20141120T210000
DTSTAMP:20260420T065032
CREATED:20141117T061501Z
LAST-MODIFIED:20141118T191504Z
UID:650-1416502800-1416517200@allthatnmoreboutique.com
SUMMARY:Best Of Culver City Award Reception
DESCRIPTION:All That & MORE boutique will receive the award as 2014 Culver City News Best Special Occasion Clothing!
URL:https://allthatnmoreboutique.com/event/best-of-culver-city-award-reception/
LOCATION:CA
CATEGORIES:MORE Events
ATTACH;FMTTYPE=image/jpeg:https://allthatnmoreboutique.com/wp-content/uploads/2014/11/image1.jpg
END:VEVENT
BEGIN:VEVENT
DTSTART;VALUE=DATE:20141115
DTEND;VALUE=DATE:20141116
DTSTAMP:20260420T065032
CREATED:20141114T065303Z
LAST-MODIFIED:20141114T065753Z
UID:500-1416009600-1416095999@allthatnmoreboutique.com
SUMMARY:All That & MORE boutique Online Store Opens
DESCRIPTION:Welcome to the All That & MORE boutique online store! We are so excited to be open 24/7 to help you enhance your personal style. Enjoy our free shipping this weekend. Enter coupon code MORE for free shipping. We all deserve All That & MORE.
URL:https://allthatnmoreboutique.com/event/all-that-more-boutique-online-store-opens/
LOCATION:CA
CATEGORIES:MORE Events
ATTACH;FMTTYPE=image/jpeg:https://allthatnmoreboutique.com/wp-content/uploads/2014/11/image.jpg
END:VEVENT
BEGIN:VEVENT
DTSTART;TZID=America/Los_Angeles:20141030T180000
DTEND;TZID=America/Los_Angeles:20141030T200000
DTSTAMP:20260420T065032
CREATED:20141028T024957Z
LAST-MODIFIED:20141028T025636Z
UID:306-1414692000-1414699200@allthatnmoreboutique.com
SUMMARY:Create The Life You Want!
DESCRIPTION:
URL:https://allthatnmoreboutique.com/event/create-the-life-you-want/
LOCATION:All That & MORE boutique\, 10754 Jefferson Blvd\, Culver City\, CA\, 90230\, United States
CATEGORIES:In-Store Events,MORE Events
ATTACH;FMTTYPE=image/png:https://allthatnmoreboutique.com/wp-content/uploads/2014/10/Life-You-Want-Event.png
ORGANIZER;CN="Candance Simmons":MAILTO:candanceallthat@att.net
END:VEVENT
BEGIN:VEVENT
DTSTART;TZID=America/Los_Angeles:20141024T170000
DTEND;TZID=America/Los_Angeles:20141024T200000
DTSTAMP:20260420T065032
CREATED:20141028T031917Z
LAST-MODIFIED:20141028T031917Z
UID:313-1414170000-1414180800@allthatnmoreboutique.com
SUMMARY:Pretty In Pink - Sip & Shop Fundraiser
DESCRIPTION:As we continue to raise awareness and fight for a cure for breast cancer\, we invite you to shop for a great cause. Join Us for our Pretty In Pink – Sip & Shop fundraiser. A portion of the proceeds will be given to our friend Darlise Jackson who has began her journey of healing from breast cancer. RSVP today 310-559-7332.
URL:https://allthatnmoreboutique.com/event/pretty-in-pink-sip-shop-fundraiser/
LOCATION:All That & MORE boutique\, 10754 Jefferson Blvd\, Culver City\, CA\, 90230\, United States
CATEGORIES:Fundraiser,MORE Events
ATTACH;FMTTYPE=image/jpeg:https://allthatnmoreboutique.com/wp-content/uploads/2014/10/darlise.jpeg
ORGANIZER;CN="Candance Simmons":MAILTO:candanceallthat@att.net
END:VEVENT
END:VCALENDAR