BEGIN:VCALENDAR
VERSION:2.0
PRODID:-//All That &amp; More boutique - ECPv6.15.20//NONSGML v1.0//EN
CALSCALE:GREGORIAN
METHOD:PUBLISH
X-WR-CALNAME:All That &amp; More boutique
X-ORIGINAL-URL:https://allthatnmoreboutique.com
X-WR-CALDESC:Events for All That &amp; More boutique
REFRESH-INTERVAL;VALUE=DURATION:PT1H
X-Robots-Tag:noindex
X-PUBLISHED-TTL:PT1H
BEGIN:VTIMEZONE
TZID:America/Los_Angeles
BEGIN:DAYLIGHT
TZOFFSETFROM:-0800
TZOFFSETTO:-0700
TZNAME:PDT
DTSTART:20130310T100000
END:DAYLIGHT
BEGIN:STANDARD
TZOFFSETFROM:-0700
TZOFFSETTO:-0800
TZNAME:PST
DTSTART:20131103T090000
END:STANDARD
BEGIN:DAYLIGHT
TZOFFSETFROM:-0800
TZOFFSETTO:-0700
TZNAME:PDT
DTSTART:20140309T100000
END:DAYLIGHT
BEGIN:STANDARD
TZOFFSETFROM:-0700
TZOFFSETTO:-0800
TZNAME:PST
DTSTART:20141102T090000
END:STANDARD
BEGIN:DAYLIGHT
TZOFFSETFROM:-0800
TZOFFSETTO:-0700
TZNAME:PDT
DTSTART:20150308T100000
END:DAYLIGHT
BEGIN:STANDARD
TZOFFSETFROM:-0700
TZOFFSETTO:-0800
TZNAME:PST
DTSTART:20151101T090000
END:STANDARD
BEGIN:DAYLIGHT
TZOFFSETFROM:-0800
TZOFFSETTO:-0700
TZNAME:PDT
DTSTART:20160313T100000
END:DAYLIGHT
BEGIN:STANDARD
TZOFFSETFROM:-0700
TZOFFSETTO:-0800
TZNAME:PST
DTSTART:20161106T090000
END:STANDARD
BEGIN:DAYLIGHT
TZOFFSETFROM:-0800
TZOFFSETTO:-0700
TZNAME:PDT
DTSTART:20170312T100000
END:DAYLIGHT
BEGIN:STANDARD
TZOFFSETFROM:-0700
TZOFFSETTO:-0800
TZNAME:PST
DTSTART:20171105T090000
END:STANDARD
BEGIN:DAYLIGHT
TZOFFSETFROM:-0800
TZOFFSETTO:-0700
TZNAME:PDT
DTSTART:20180311T100000
END:DAYLIGHT
BEGIN:STANDARD
TZOFFSETFROM:-0700
TZOFFSETTO:-0800
TZNAME:PST
DTSTART:20181104T090000
END:STANDARD
BEGIN:DAYLIGHT
TZOFFSETFROM:-0800
TZOFFSETTO:-0700
TZNAME:PDT
DTSTART:20190310T100000
END:DAYLIGHT
BEGIN:STANDARD
TZOFFSETFROM:-0700
TZOFFSETTO:-0800
TZNAME:PST
DTSTART:20191103T090000
END:STANDARD
END:VTIMEZONE
BEGIN:VEVENT
DTSTART;TZID=America/Los_Angeles:20180411T080000
DTEND;TZID=America/Los_Angeles:20180414T190000
DTSTAMP:20260424T010925
CREATED:20180411T073441Z
LAST-MODIFIED:20180411T074557Z
UID:2826-1523433600-1523732400@allthatnmoreboutique.com
SUMMARY:20% Off Selected Handbags & Clutches
DESCRIPTION:Today through Saturday April 14th\, selected handbags are 20% off!
URL:https://allthatnmoreboutique.com/event/20-off-selected-handbags-clutches/
LOCATION:All That & MORE boutique\, 10754 Jefferson Blvd\, Culver City\, CA\, 90230\, United States
CATEGORIES:Sales
ATTACH;FMTTYPE=image/jpeg:https://allthatnmoreboutique.com/wp-content/uploads/2017/09/IMG_6167.jpg
END:VEVENT
BEGIN:VEVENT
DTSTART;VALUE=DATE:20171212
DTEND;VALUE=DATE:20171216
DTSTAMP:20260424T010925
CREATED:20171213T033943Z
LAST-MODIFIED:20171213T070411Z
UID:2618-1513036800-1513382399@allthatnmoreboutique.com
SUMMARY:12 Days Of Christmas - 20% off Handbags
DESCRIPTION:Join Us for the 12 Days of Christmas Sales – 20% Off Selected Handbags
URL:https://allthatnmoreboutique.com/event/12-days-of-christmas-20-off-handbags/
LOCATION:All That & MORE boutique\, 10754 Jefferson Blvd\, Culver City\, CA\, 90230\, United States
CATEGORIES:Sales
ATTACH;FMTTYPE=image/jpeg:https://allthatnmoreboutique.com/wp-content/uploads/2017/12/65AC6743-460C-4CDD-9E59-4FF09282E4DF.jpeg
END:VEVENT
BEGIN:VEVENT
DTSTART;TZID=America/Los_Angeles:20171125T110000
DTEND;TZID=America/Los_Angeles:20171125T190000
DTSTAMP:20260424T010925
CREATED:20171118T075928Z
LAST-MODIFIED:20171118T084724Z
UID:2601-1511607600-1511636400@allthatnmoreboutique.com
SUMMARY:Think Big and Shop Small on Novemeber 25th
DESCRIPTION:Join us for Small Business Saturday and show your love by getting out to Shop Small at All That & MORE boutique on November 25th. \nDuring previous years for Small Business Saturday\, 88 million people came out to Shop Small and made it a day to remember across the country. This year\, help make an even bigger impact by showing your love for the businesses that put their hearts into everything they do. So get up\, get out\, and Shop Small on Nov 25th.
URL:https://allthatnmoreboutique.com/event/think-big-and-shop-small-on-novemeber-25th/
LOCATION:All That & MORE boutique\, 10754 Jefferson Blvd\, Culver City\, CA\, 90230\, United States
CATEGORIES:In-Store Events,MORE Events,Sales,Small Business Saturday
ATTACH;FMTTYPE=image/jpeg:https://allthatnmoreboutique.com/wp-content/uploads/2017/11/C208BC28-6E42-49AC-81A9-A52F5E2007C4.jpeg
END:VEVENT
BEGIN:VEVENT
DTSTART;VALUE=DATE:20170428
DTEND;VALUE=DATE:20170429
DTSTAMP:20260424T010925
CREATED:20170428T072130Z
LAST-MODIFIED:20170428T072130Z
UID:2394-1493337600-1493423999@allthatnmoreboutique.com
SUMMARY:Shop for Mom Tax Free
DESCRIPTION:On Friday\, April 28\, 2017 you can shop for Mom Tax-Free at All That & MORE boutique. We want to help you give Mom All That & MORE. We will pay the tax on your purchase. Mention this offer and shop tax free for one day at All That & MORE boutique! We hope to see MORE of you today. Happy Mother’s Day.
URL:https://allthatnmoreboutique.com/event/shop-for-mom-tax-free/
LOCATION:All That & MORE boutique\, 10754 Jefferson Blvd\, Culver City\, CA\, 90230\, United States
CATEGORIES:MORE Events,Sales
ATTACH;FMTTYPE=image/jpeg:https://allthatnmoreboutique.com/wp-content/uploads/2016/04/image.jpeg
END:VEVENT
BEGIN:VEVENT
DTSTART;TZID=America/Los_Angeles:20160630T110000
DTEND;TZID=America/Los_Angeles:20160702T190000
DTSTAMP:20260424T010925
CREATED:20160630T224326Z
LAST-MODIFIED:20160630T224326Z
UID:1836-1467284400-1467486000@allthatnmoreboutique.com
SUMMARY:July 4th Sale
DESCRIPTION:We are here to help you get your fashion ready for the warm summer days nights\, family outdoor parties\, and travel. We can help you get ready for All That & MORE! Come in shop our 4th of July Sale and experience our personal styling team. Get MORE out of your shopping experience at All That & MORE boutique! \n  \n\n$10 off you purchase of $100 or MORE\n25% Sale items\n50% off the perfect match items
URL:https://allthatnmoreboutique.com/event/july-4th-sale/
LOCATION:All That & MORE boutique\, 10754 Jefferson Blvd\, Culver City\, CA\, 90230\, United States
CATEGORIES:In-Store Events,Sales
ATTACH;FMTTYPE=image/png:https://allthatnmoreboutique.com/wp-content/uploads/2016/06/july4thsale.png
ORGANIZER;CN="Candance Simmons":MAILTO:candanceallthat@att.net
END:VEVENT
BEGIN:VEVENT
DTSTART;TZID=America/Los_Angeles:20160612T150000
DTEND;TZID=America/Los_Angeles:20160612T170000
DTSTAMP:20260424T010925
CREATED:20160609T052310Z
LAST-MODIFIED:20160609T052420Z
UID:1733-1465743600-1465750800@allthatnmoreboutique.com
SUMMARY:.925 Silver Sample Sale & BFF Sale
DESCRIPTION:Join Us on Sunday\, for an amazing Silpada Sample Sale and BFF Sale! Our client Brenda will be showcasing amazing Silpada jewelry samples for 40% – 50% off. We will extend our perfect match sale. Find a sale item for the same price and take 50% off both items. Arrive early for the best selection. Bring your BFF and enter the BFF raffle.
URL:https://allthatnmoreboutique.com/event/925-silver-sample-sale-bff-sale/
LOCATION:All That & MORE boutique\, 10754 Jefferson Blvd\, Culver City\, CA\, 90230\, United States
CATEGORIES:MORE Events,Sales
ATTACH;FMTTYPE=image/jpeg:https://allthatnmoreboutique.com/wp-content/uploads/2016/06/sample-sale.jpg
ORGANIZER;CN="Candance Simmons":MAILTO:candanceallthat@att.net
END:VEVENT
BEGIN:VEVENT
DTSTART;TZID=America/Los_Angeles:20160609T110000
DTEND;TZID=America/Los_Angeles:20160611T190000
DTSTAMP:20260424T010925
CREATED:20160609T053512Z
LAST-MODIFIED:20160609T053512Z
UID:1735-1465470000-1465671600@allthatnmoreboutique.com
SUMMARY:Perfect Match & #BFF Sale!
DESCRIPTION:Our Perfect Match & BFF Sale starts today and ends 5/11/16! Find two sale items with the same price and take 50% of both items!\n All yellow tag items are 25%. Shop with your BFF and SAVE MORE!\n 
URL:https://allthatnmoreboutique.com/event/perfect-match-bff-sale/
LOCATION:All That & MORE boutique\, 10754 Jefferson Blvd\, Culver City\, CA\, 90230\, United States
CATEGORIES:MORE Events,Sales
ATTACH;FMTTYPE=image/jpeg:https://allthatnmoreboutique.com/wp-content/uploads/2016/06/image.jpeg
ORGANIZER;CN="Candance Simmons":MAILTO:candanceallthat@att.net
END:VEVENT
BEGIN:VEVENT
DTSTART;TZID=America/Los_Angeles:20160514T130000
DTEND;TZID=America/Los_Angeles:20160514T210000
DTSTAMP:20260424T010925
CREATED:20160513T055538Z
LAST-MODIFIED:20160513T055538Z
UID:1702-1463230800-1463259600@allthatnmoreboutique.com
SUMMARY:2 + 4 Anniversary Extravaganza
DESCRIPTION:It’s time to celebrate all we have accomplished with All That & MORE boutique. Thank you for your love and support. We could not have made it this far without you. \nAs we approach our 2 + 4 Anniversary(2 year partnership + 4 Year Sole-owner) we have All That & MORE planned for you. \nCome join the fun\, experience the fashion\, walk the red carpet\, enjoy the great food\, make a purchase and get entered into our fashion item raffles and MORE! \nThank you for your ongoing support and taking this amazing journey with All That & MORE boutique!
URL:https://allthatnmoreboutique.com/event/2-4-anniversary-extravaganza/
LOCATION:All That & MORE boutique\, 10754 Jefferson Blvd\, Culver City\, CA\, 90230\, United States
CATEGORIES:In-Store Events,Sales,Small Business Saturday
ATTACH;FMTTYPE=image/jpeg:https://allthatnmoreboutique.com/wp-content/uploads/2016/05/anniversaryflyer2016.jpg
ORGANIZER;CN="Candance Simmons":MAILTO:candanceallthat@att.net
END:VEVENT
BEGIN:VEVENT
DTSTART;TZID=America/Los_Angeles:20160413T110000
DTEND;TZID=America/Los_Angeles:20160415T190000
DTSTAMP:20260424T010925
CREATED:20160413T031035Z
LAST-MODIFIED:20160413T031035Z
UID:1687-1460545200-1460746800@allthatnmoreboutique.com
SUMMARY:Tax Free Shopping
DESCRIPTION:As a value client of All That & MORE boutique we want to get you a Tax – Free Shopping Day this week. You pick the Day and we will pay your purchase taxes! Come in April 13th – April 15th\, mention this offer and shop tax free for one day at All That &MORE boutique! VIP members you SAVE MORE! You will receive your VIP % discount and pay no taxes on your purchases. You can save 14.75% – 21.75%. Join our VIP program and get MORE! \n  \n  (This offer can not be applied to your Sunbit purchases.)
URL:https://allthatnmoreboutique.com/event/tax-free-shopping/
LOCATION:All That & MORE boutique\, 10754 Jefferson Blvd\, Culver City\, CA\, 90230\, United States
CATEGORIES:In-Store Events,Sales
ATTACH;FMTTYPE=image/jpeg:https://allthatnmoreboutique.com/wp-content/uploads/2016/04/image.jpeg
ORGANIZER;CN="Candance Simmons":MAILTO:candanceallthat@att.net
END:VEVENT
BEGIN:VEVENT
DTSTART;VALUE=DATE:20160303
DTEND;VALUE=DATE:20160306
DTSTAMP:20260424T010925
CREATED:20160303T023049Z
LAST-MODIFIED:20160303T023442Z
UID:1593-1456963200-1457222399@allthatnmoreboutique.com
SUMMARY:Leap Year Sale!
DESCRIPTION:It’s Leap Year! We are taking 29% off all items with a yellow sales tag! Look for the Yellow Tag and Save!
URL:https://allthatnmoreboutique.com/event/leap-year-sale/
LOCATION:All That & MORE boutique\, 10754 Jefferson Blvd\, Culver City\, CA\, 90230\, United States
CATEGORIES:Sales
ATTACH;FMTTYPE=image/jpeg:https://allthatnmoreboutique.com/wp-content/uploads/2016/03/image-1.jpg
ORGANIZER;CN="Candance Simmons":MAILTO:candanceallthat@att.net
END:VEVENT
BEGIN:VEVENT
DTSTART;TZID=America/Los_Angeles:20150114T110000
DTEND;TZID=America/Los_Angeles:20150119T230000
DTSTAMP:20260424T010925
CREATED:20150114T213257Z
LAST-MODIFIED:20150114T233936Z
UID:790-1421233200-1421708400@allthatnmoreboutique.com
SUMMARY:2015 Sale - $20.15 & $40.30
DESCRIPTION:  \nThank you for your support in 2014! To kick off 2015 we have created a special SALE. We have priced selected t-shirts\, tanks\, and scarfs at $20.15!  Selected tops and dresses are also priced at $40.30 (2015 times 2). Look for the yellow tags reflecting all the SALE items. \n \nAs a special “Thank You” for your onging support You will also receive 10% off your 1st purchase in 2015 now thru January 31st\n 
URL:https://allthatnmoreboutique.com/event/2015-sale-20-15-40-30/
LOCATION:All That & MORE boutique\, 10754 Jefferson Blvd\, Culver City\, CA\, 90230\, United States
CATEGORIES:Sales
ATTACH;FMTTYPE=image/jpeg:https://allthatnmoreboutique.com/wp-content/uploads/2015/01/image3.jpg
ORGANIZER;CN="Candance Simmons":MAILTO:candanceallthat@att.net
END:VEVENT
BEGIN:VEVENT
DTSTART;TZID=America/Los_Angeles:20141231T110000
DTEND;TZID=America/Los_Angeles:20141231T190000
DTSTAMP:20260424T010925
CREATED:20141229T105127Z
LAST-MODIFIED:20141229T105253Z
UID:755-1420023600-1420052400@allthatnmoreboutique.com
SUMMARY:Day 3 Sale 40% - 50% off Selected Sweaters & Tops!
DESCRIPTION:New Year Eve 12/31/14 Take 40% off Selected Sweaters and Tops throughout the boutique. We open at 11:00am and close at 6:00pm! Come experience the largest sale in our boutique history as we close out 2014! We are closed January 1st to celebrate the New Year!
URL:https://allthatnmoreboutique.com/event/40-50-off-selected-sweaters-tops/
LOCATION:All That & MORE boutique\, 10754 Jefferson Blvd\, Culver City\, CA\, 90230\, United States
CATEGORIES:Sales
END:VEVENT
BEGIN:VEVENT
DTSTART;TZID=America/Los_Angeles:20141230T110000
DTEND;TZID=America/Los_Angeles:20141230T190000
DTSTAMP:20260424T010925
CREATED:20141229T104504Z
LAST-MODIFIED:20141229T104504Z
UID:753-1419937200-1419966000@allthatnmoreboutique.com
SUMMARY:Day 2 Sale 25% Off Selected Accessories
DESCRIPTION:Take 25% off Selected Leather Bracelets and accessories! We are clearing our racks to make room for the 2015 new arrivals!
URL:https://allthatnmoreboutique.com/event/day-2-sale-25-off-selected-accessories/
LOCATION:All That & MORE boutique\, 10754 Jefferson Blvd\, Culver City\, CA\, 90230\, United States
CATEGORIES:Sales
ORGANIZER;CN="Candance Simmons":MAILTO:candanceallthat@att.net
END:VEVENT
BEGIN:VEVENT
DTSTART;TZID=America/Los_Angeles:20141229T140000
DTEND;TZID=America/Los_Angeles:20141229T180000
DTSTAMP:20260424T010925
CREATED:20141229T103840Z
LAST-MODIFIED:20141229T103840Z
UID:751-1419861600-1419876000@allthatnmoreboutique.com
SUMMARY:Day 1 Sale 25% off Black & White Tops & Dresses
DESCRIPTION:Monday 12/29/14 Only! Take 25% off Selected Black & White tops\, dress\, and shoes! We are clearing our racks to make room for the 2015 new arrivals! We are open today 2:00pm – 6:00pm!
URL:https://allthatnmoreboutique.com/event/day-1-sale-25-off-black-white-tops-dresses/
LOCATION:All That & MORE boutique\, 10754 Jefferson Blvd\, Culver City\, CA\, 90230\, United States
CATEGORIES:Sales
ORGANIZER;CN="Candance Simmons":MAILTO:candanceallthat@att.net
END:VEVENT
END:VCALENDAR