BEGIN:VCALENDAR
VERSION:2.0
PRODID:-//All That &amp; More boutique - ECPv6.15.20//NONSGML v1.0//EN
CALSCALE:GREGORIAN
METHOD:PUBLISH
X-ORIGINAL-URL:https://allthatnmoreboutique.com
X-WR-CALDESC:Events for All That &amp; More boutique
REFRESH-INTERVAL;VALUE=DURATION:PT1H
X-Robots-Tag:noindex
X-PUBLISHED-TTL:PT1H
BEGIN:VTIMEZONE
TZID:America/Los_Angeles
BEGIN:DAYLIGHT
TZOFFSETFROM:-0800
TZOFFSETTO:-0700
TZNAME:PDT
DTSTART:20200308T100000
END:DAYLIGHT
BEGIN:STANDARD
TZOFFSETFROM:-0700
TZOFFSETTO:-0800
TZNAME:PST
DTSTART:20201101T090000
END:STANDARD
BEGIN:DAYLIGHT
TZOFFSETFROM:-0800
TZOFFSETTO:-0700
TZNAME:PDT
DTSTART:20210314T100000
END:DAYLIGHT
BEGIN:STANDARD
TZOFFSETFROM:-0700
TZOFFSETTO:-0800
TZNAME:PST
DTSTART:20211107T090000
END:STANDARD
BEGIN:DAYLIGHT
TZOFFSETFROM:-0800
TZOFFSETTO:-0700
TZNAME:PDT
DTSTART:20220313T100000
END:DAYLIGHT
BEGIN:STANDARD
TZOFFSETFROM:-0700
TZOFFSETTO:-0800
TZNAME:PST
DTSTART:20221106T090000
END:STANDARD
END:VTIMEZONE
BEGIN:VEVENT
DTSTART;TZID=America/Los_Angeles:20210507T180000
DTEND;TZID=America/Los_Angeles:20210507T190000
DTSTAMP:20260422T053244
CREATED:20210505T225926Z
LAST-MODIFIED:20210505T230923Z
UID:11717-1620410400-1620414000@allthatnmoreboutique.com
SUMMARY:Take 10 with All That & MORE boutique!
DESCRIPTION:The Take 10 Sip & Shop virtual events are a great place to introduce your friends and family to an All That & MORE boutique shopping experience. This event takes place from the comfort of your home. If you would like to attend the May 7th event\, please contact us at 310-559-7332. We will send you the zoom link\, if space is still available. You will be added to the waitlist once the viewing slots are filled.
URL:https://allthatnmoreboutique.com/event/take-10-with-all-that-more-boutique/
CATEGORIES:Take 10 - Virtual
ATTACH;FMTTYPE=image/jpeg:https://allthatnmoreboutique.com/wp-content/uploads/2021/05/Take-10-May-7th.jpg
ORGANIZER;CN="All That & MORE boutique":MAILTO:candance@allthatnmoreboutique.com
END:VEVENT
BEGIN:VEVENT
DTSTART;TZID=America/Los_Angeles:20210416T180000
DTEND;TZID=America/Los_Angeles:20210416T190000
DTSTAMP:20260422T053244
CREATED:20210416T030253Z
LAST-MODIFIED:20210416T030904Z
UID:11601-1618596000-1618599600@allthatnmoreboutique.com
SUMMARY:Take 10 - ATM Boutique
DESCRIPTION:The Take 10 Sip & Shop virtual events are a great place to introduce your friends and family to an All That & MORE boutique shopping experience. This event takes place from the comfort of your home. If you would like to attend the April 16th event\, please contact us at 310-559-7332. We will send you the zoom link\, if space is still available. You will be added to the waitlist once the viewing slots are filled.
URL:https://allthatnmoreboutique.com/event/take-10-atm-boutique/
LOCATION:Virtual\, Zoom
CATEGORIES:Take 10 - Virtual
ATTACH;FMTTYPE=image/jpeg:https://allthatnmoreboutique.com/wp-content/uploads/2021/04/take10416.jpg
ORGANIZER;CN="All That & MORE boutique":MAILTO:candance@allthatnmoreboutique.com
END:VEVENT
END:VCALENDAR