BEGIN:VCALENDAR
VERSION:2.0
PRODID:-//All That &amp; More boutique - ECPv6.15.20//NONSGML v1.0//EN
CALSCALE:GREGORIAN
METHOD:PUBLISH
X-WR-CALNAME:All That &amp; More boutique
X-ORIGINAL-URL:https://allthatnmoreboutique.com
X-WR-CALDESC:Events for All That &amp; More boutique
REFRESH-INTERVAL;VALUE=DURATION:PT1H
X-Robots-Tag:noindex
X-PUBLISHED-TTL:PT1H
BEGIN:VTIMEZONE
TZID:America/Los_Angeles
BEGIN:DAYLIGHT
TZOFFSETFROM:-0800
TZOFFSETTO:-0700
TZNAME:PDT
DTSTART:20140309T100000
END:DAYLIGHT
BEGIN:STANDARD
TZOFFSETFROM:-0700
TZOFFSETTO:-0800
TZNAME:PST
DTSTART:20141102T090000
END:STANDARD
BEGIN:DAYLIGHT
TZOFFSETFROM:-0800
TZOFFSETTO:-0700
TZNAME:PDT
DTSTART:20150308T100000
END:DAYLIGHT
BEGIN:STANDARD
TZOFFSETFROM:-0700
TZOFFSETTO:-0800
TZNAME:PST
DTSTART:20151101T090000
END:STANDARD
BEGIN:DAYLIGHT
TZOFFSETFROM:-0800
TZOFFSETTO:-0700
TZNAME:PDT
DTSTART:20160313T100000
END:DAYLIGHT
BEGIN:STANDARD
TZOFFSETFROM:-0700
TZOFFSETTO:-0800
TZNAME:PST
DTSTART:20161106T090000
END:STANDARD
BEGIN:DAYLIGHT
TZOFFSETFROM:-0800
TZOFFSETTO:-0700
TZNAME:PDT
DTSTART:20170312T100000
END:DAYLIGHT
BEGIN:STANDARD
TZOFFSETFROM:-0700
TZOFFSETTO:-0800
TZNAME:PST
DTSTART:20171105T090000
END:STANDARD
END:VTIMEZONE
BEGIN:VEVENT
DTSTART;TZID=America/Los_Angeles:20160124T150000
DTEND;TZID=America/Los_Angeles:20160124T170000
DTSTAMP:20260422T042553
CREATED:20160122T234425Z
LAST-MODIFIED:20160122T234425Z
UID:1480-1453647600-1453654800@allthatnmoreboutique.com
SUMMARY:Women Worthy Of Wealth & Fashion Showcase
DESCRIPTION:Over the next ten years $22 trillion dollars will change hands among women. Google and Forbes reports women have not had the language and skills to understand how money works. The Women Worthy of Wealth initiative will empower women and give them back their financial voice. In order to do that we need to talk to women just like you and of course men are welcomed to attend.\n\nJoin us Sunday\, January 24\, 2015 at 3:00pm for a discussion with special guests speakers at All That & MORE boutique. There we will be networking opportunities\, light refreshments\, and a Fashion Show Case prior to the discussion. Each guest attending will receive 10% off their entire purchase made during the event. There is limited seating and all guests must RSVP by Friday\, January 22\, 2016 at 310-559-7332\n\nLearn MORE about our initiative to empower women
URL:https://allthatnmoreboutique.com/event/women-worthy-of-wealth-fashion-showcase/
LOCATION:All That & MORE boutique\, 10754 Jefferson Blvd\, Culver City\, CA\, 90230\, United States
CATEGORIES:How Money Works,Women Worthy of Wealth
ATTACH;FMTTYPE=image/jpeg:https://allthatnmoreboutique.com/wp-content/uploads/2016/01/mewww.jpg
ORGANIZER;CN="Candance Simmons":MAILTO:candanceallthat@att.net
END:VEVENT
BEGIN:VEVENT
DTSTART;TZID=America/Los_Angeles:20151011T150000
DTEND;TZID=America/Los_Angeles:20151011T170000
DTSTAMP:20260422T042553
CREATED:20150930T073416Z
LAST-MODIFIED:20160128T011851Z
UID:1362-1444575600-1444582800@allthatnmoreboutique.com
SUMMARY:Women Worthy Of Wealth & Fall Fashion Show Case
DESCRIPTION:Over the next ten years $22 trillion dollars will change hands among women. Google and Forbes reports women have not had the language and skills to understand how money works. The Women Worthy of Wealth initiative will empower women and give them back their financial voice. In order to do that we need to talk to women just like you and of course men are welcomed to attend. \nJoin us Sunday\, October 11\, 2015 at 3:00pm for a discussion with Anita Ferns and special guests at All That & MORE boutique. There we will be networking opportunities\, light refreshments\, and a Fall Fashion Show Case prior to the discussion. Each guest attending will receive 10% off their entire purchase made during the event. There is limited seating\, all guests must RSVP by Friday\,          October  9th at 310-559-7332.
URL:https://allthatnmoreboutique.com/event/womenworthyofwealth/
LOCATION:All That & MORE boutique\, 10754 Jefferson Blvd\, Culver City\, CA\, 90230\, United States
CATEGORIES:How Money Works,Women Worthy of Wealth
ORGANIZER;CN="Candance Simmons":MAILTO:candanceallthat@att.net
END:VEVENT
END:VCALENDAR